BEGIN:VCALENDAR
VERSION:2.0
PRODID:-//AlterZinc - ECPv6.15.20//NONSGML v1.0//EN
CALSCALE:GREGORIAN
METHOD:PUBLISH
X-ORIGINAL-URL:https://alterzinc.fr
X-WR-CALDESC:Évènements pour AlterZinc
REFRESH-INTERVAL;VALUE=DURATION:PT1H
X-Robots-Tag:noindex
X-PUBLISHED-TTL:PT1H
BEGIN:VTIMEZONE
TZID:Europe/Paris
BEGIN:DAYLIGHT
TZOFFSETFROM:+0100
TZOFFSETTO:+0200
TZNAME:CEST
DTSTART:20250330T010000
END:DAYLIGHT
BEGIN:STANDARD
TZOFFSETFROM:+0200
TZOFFSETTO:+0100
TZNAME:CET
DTSTART:20251026T010000
END:STANDARD
BEGIN:DAYLIGHT
TZOFFSETFROM:+0100
TZOFFSETTO:+0200
TZNAME:CEST
DTSTART:20260329T010000
END:DAYLIGHT
BEGIN:STANDARD
TZOFFSETFROM:+0200
TZOFFSETTO:+0100
TZNAME:CET
DTSTART:20261025T010000
END:STANDARD
BEGIN:DAYLIGHT
TZOFFSETFROM:+0100
TZOFFSETTO:+0200
TZNAME:CEST
DTSTART:20270328T010000
END:DAYLIGHT
BEGIN:STANDARD
TZOFFSETFROM:+0200
TZOFFSETTO:+0100
TZNAME:CET
DTSTART:20271031T010000
END:STANDARD
END:VTIMEZONE
BEGIN:VEVENT
DTSTART;TZID=Europe/Paris:20260124T190000
DTEND;TZID=Europe/Paris:20260124T230000
DTSTAMP:20260422T001430
CREATED:20251124T203015Z
LAST-MODIFIED:20260107T085847Z
UID:780-1769281200-1769295600@alterzinc.fr
SUMMARY:Assemblée générale et Zik
DESCRIPTION:
URL:https://alterzinc.fr/index.php/event/assemblee-generale-et-zik/
LOCATION:Bar atteint\, 25 rue de la Savoureuse\, Belfort\, 90000\, France
CATEGORIES:concert,conférence débat
END:VEVENT
END:VCALENDAR