BEGIN:VCALENDAR
VERSION:2.0
PRODID:-//AlterZinc - ECPv6.15.20//NONSGML v1.0//EN
CALSCALE:GREGORIAN
METHOD:PUBLISH
X-WR-CALNAME:AlterZinc
X-ORIGINAL-URL:https://alterzinc.fr
X-WR-CALDESC:Évènements pour AlterZinc
REFRESH-INTERVAL;VALUE=DURATION:PT1H
X-Robots-Tag:noindex
X-PUBLISHED-TTL:PT1H
BEGIN:VTIMEZONE
TZID:Europe/Paris
BEGIN:DAYLIGHT
TZOFFSETFROM:+0100
TZOFFSETTO:+0200
TZNAME:CEST
DTSTART:20250330T010000
END:DAYLIGHT
BEGIN:STANDARD
TZOFFSETFROM:+0200
TZOFFSETTO:+0100
TZNAME:CET
DTSTART:20251026T010000
END:STANDARD
BEGIN:DAYLIGHT
TZOFFSETFROM:+0100
TZOFFSETTO:+0200
TZNAME:CEST
DTSTART:20260329T010000
END:DAYLIGHT
BEGIN:STANDARD
TZOFFSETFROM:+0200
TZOFFSETTO:+0100
TZNAME:CET
DTSTART:20261025T010000
END:STANDARD
BEGIN:DAYLIGHT
TZOFFSETFROM:+0100
TZOFFSETTO:+0200
TZNAME:CEST
DTSTART:20270328T010000
END:DAYLIGHT
BEGIN:STANDARD
TZOFFSETFROM:+0200
TZOFFSETTO:+0100
TZNAME:CET
DTSTART:20271031T010000
END:STANDARD
END:VTIMEZONE
BEGIN:VEVENT
DTSTART;TZID=Europe/Paris:20260530T190000
DTEND;TZID=Europe/Paris:20260530T230000
DTSTAMP:20260422T014157
CREATED:20260421T192716Z
LAST-MODIFIED:20260421T192716Z
UID:879-1780167600-1780182000@alterzinc.fr
SUMMARY:Jam session
DESCRIPTION:30 mai – Jam session\nDans les locaux de l’ancien Bar Atteint\nUne soirée ouverte\, musicale et improvisée
URL:https://alterzinc.fr/index.php/event/jam-session-3/
LOCATION:Bar atteint\, 25 rue de la Savoureuse\, Belfort\, 90000\, France
CATEGORIES:bar,concert
END:VEVENT
END:VCALENDAR