BEGIN:VCALENDAR
VERSION:2.0
PRODID:-//AlterZinc - ECPv6.15.20//NONSGML v1.0//EN
CALSCALE:GREGORIAN
METHOD:PUBLISH
X-ORIGINAL-URL:https://alterzinc.fr
X-WR-CALDESC:Évènements pour AlterZinc
REFRESH-INTERVAL;VALUE=DURATION:PT1H
X-Robots-Tag:noindex
X-PUBLISHED-TTL:PT1H
BEGIN:VTIMEZONE
TZID:Europe/Paris
BEGIN:DAYLIGHT
TZOFFSETFROM:+0100
TZOFFSETTO:+0200
TZNAME:CEST
DTSTART:20240331T010000
END:DAYLIGHT
BEGIN:STANDARD
TZOFFSETFROM:+0200
TZOFFSETTO:+0100
TZNAME:CET
DTSTART:20241027T010000
END:STANDARD
BEGIN:DAYLIGHT
TZOFFSETFROM:+0100
TZOFFSETTO:+0200
TZNAME:CEST
DTSTART:20250330T010000
END:DAYLIGHT
BEGIN:STANDARD
TZOFFSETFROM:+0200
TZOFFSETTO:+0100
TZNAME:CET
DTSTART:20251026T010000
END:STANDARD
BEGIN:DAYLIGHT
TZOFFSETFROM:+0100
TZOFFSETTO:+0200
TZNAME:CEST
DTSTART:20260329T010000
END:DAYLIGHT
BEGIN:STANDARD
TZOFFSETFROM:+0200
TZOFFSETTO:+0100
TZNAME:CET
DTSTART:20261025T010000
END:STANDARD
END:VTIMEZONE
BEGIN:VEVENT
DTSTART;TZID=Europe/Paris:20251101T190000
DTEND;TZID=Europe/Paris:20251101T220000
DTSTAMP:20260422T030517
CREATED:20251019T174037Z
LAST-MODIFIED:20251019T213157Z
UID:748-1762023600-1762034400@alterzinc.fr
SUMMARY:S'il vous plait - Vincent Jeudy
DESCRIPTION:“S’il vous plaît” de Vincent Jeudy débarque à Alterzinc !\nEt si l’on sortait un peu du cadre ?\nEntre poésie\, chanson et émotions brutes\, Vincent Jeudy nous embarque dans un seul en scène tout en sensibilité. (Rien à voir avec Denum ni avec un one-man-show comique.) \nFerrat\, Baudelaire\, Hugo\, Brel\, Michaux… se croisent et se répondent dans un voyage poétique de 20 minutes\, suivi d’un échange avec le public. (si le cœur vous en dit).\nSamedi 1er novembre à 19h à Alterzinc\, 18 rue de Brasse\, Belfort
URL:https://alterzinc.fr/index.php/event/sil-vous-plait-vincent-jeudy/
LOCATION:Pochon magique\, 18 rue de Brasse\, BELFORT\, 90000\, France
CATEGORIES:conférence débat,spectacle
END:VEVENT
BEGIN:VEVENT
DTSTART;TZID=Europe/Paris:20251108T190000
DTEND;TZID=Europe/Paris:20251108T230000
DTSTAMP:20260422T030517
CREATED:20251009T202012Z
LAST-MODIFIED:20251019T212916Z
UID:732-1762628400-1762642800@alterzinc.fr
SUMMARY:Et si on parlait sobriété ?
DESCRIPTION:Et si on parlait sobriété autrement ? \nDans le cadre du Festival de la Transition écologique et numérique\, Alterzinc a le plaisir d’accueillir France Nature Environnement Bourgogne-Franche-Comté pour une soirée conviviale sur la sobriété numérique\, énergétique et en mobilité.\nAu programme : ateliers ludiques\, jeux participatifs\, échanges libres et boîte à émotions\, pour réfléchir ensemble à nos modes de vie sans se prendre la tête.\nUn temps chaleureux et participatif\, accessible à toutes et tous\, pour s’inspirer sans culpabiliser. \nRendez-vous le samedi 8 novembre à 19h à Alterzinc \nVenez curieux·ses\, repartez inspiré·es !
URL:https://alterzinc.fr/index.php/event/732/
LOCATION:Pochon magique\, 18 rue de Brasse\, BELFORT\, 90000\, France
CATEGORIES:conférence débat
ATTACH;FMTTYPE=application/pdf:https://alterzinc.fr/wp-content/uploads/2025/10/Affiche-Parlons-Sobriete-Belfort-2025.pdf
END:VEVENT
END:VCALENDAR