BEGIN:VCALENDAR
VERSION:2.0
PRODID:-//AlterZinc - ECPv6.15.20//NONSGML v1.0//EN
CALSCALE:GREGORIAN
METHOD:PUBLISH
X-WR-CALNAME:AlterZinc
X-ORIGINAL-URL:https://alterzinc.fr
X-WR-CALDESC:Évènements pour AlterZinc
REFRESH-INTERVAL;VALUE=DURATION:PT1H
X-Robots-Tag:noindex
X-PUBLISHED-TTL:PT1H
BEGIN:VTIMEZONE
TZID:Europe/Paris
BEGIN:DAYLIGHT
TZOFFSETFROM:+0100
TZOFFSETTO:+0200
TZNAME:CEST
DTSTART:20230326T010000
END:DAYLIGHT
BEGIN:STANDARD
TZOFFSETFROM:+0200
TZOFFSETTO:+0100
TZNAME:CET
DTSTART:20231029T010000
END:STANDARD
BEGIN:DAYLIGHT
TZOFFSETFROM:+0100
TZOFFSETTO:+0200
TZNAME:CEST
DTSTART:20240331T010000
END:DAYLIGHT
BEGIN:STANDARD
TZOFFSETFROM:+0200
TZOFFSETTO:+0100
TZNAME:CET
DTSTART:20241027T010000
END:STANDARD
BEGIN:DAYLIGHT
TZOFFSETFROM:+0100
TZOFFSETTO:+0200
TZNAME:CEST
DTSTART:20250330T010000
END:DAYLIGHT
BEGIN:STANDARD
TZOFFSETFROM:+0200
TZOFFSETTO:+0100
TZNAME:CET
DTSTART:20251026T010000
END:STANDARD
END:VTIMEZONE
BEGIN:VEVENT
DTSTART;TZID=Europe/Paris:20241006T110000
DTEND;TZID=Europe/Paris:20241006T150000
DTSTAMP:20260422T222433
CREATED:20240922T081751Z
LAST-MODIFIED:20240923T095607Z
UID:403-1728212400-1728226800@alterzinc.fr
SUMMARY:Assemblée générale d'AlterZinc
DESCRIPTION:L’assemblée générale de l’association AlterZinc aura lieu dimanche 6 octobre à 11h au 18 rue de Brasse. \nA l’ordre du jour : \n\nPoint bilan d’une année\nPoint financier\nCotisations adhérents\nPerspectives et programmation\n\nUn repas végé sera servi dans le jardin s’il fait beau\, à l’intérieur s’il pleut.\nInscription obligatoire pour le repas gratuit ! \n  \n  \n 
URL:https://alterzinc.fr/index.php/event/assemblee-generale-dalterzinc/
LOCATION:Pochon magique\, 18 rue de Brasse\, BELFORT\, 90000\, France
CATEGORIES:conférence débat
END:VEVENT
END:VCALENDAR