BEGIN:VCALENDAR
VERSION:2.0
PRODID:-//AlterZinc - ECPv6.15.20//NONSGML v1.0//EN
CALSCALE:GREGORIAN
METHOD:PUBLISH
X-WR-CALNAME:AlterZinc
X-ORIGINAL-URL:https://alterzinc.fr
X-WR-CALDESC:Évènements pour AlterZinc
REFRESH-INTERVAL;VALUE=DURATION:PT1H
X-Robots-Tag:noindex
X-PUBLISHED-TTL:PT1H
BEGIN:VTIMEZONE
TZID:Europe/Paris
BEGIN:DAYLIGHT
TZOFFSETFROM:+0100
TZOFFSETTO:+0200
TZNAME:CEST
DTSTART:20230326T010000
END:DAYLIGHT
BEGIN:STANDARD
TZOFFSETFROM:+0200
TZOFFSETTO:+0100
TZNAME:CET
DTSTART:20231029T010000
END:STANDARD
BEGIN:DAYLIGHT
TZOFFSETFROM:+0100
TZOFFSETTO:+0200
TZNAME:CEST
DTSTART:20240331T010000
END:DAYLIGHT
BEGIN:STANDARD
TZOFFSETFROM:+0200
TZOFFSETTO:+0100
TZNAME:CET
DTSTART:20241027T010000
END:STANDARD
BEGIN:DAYLIGHT
TZOFFSETFROM:+0100
TZOFFSETTO:+0200
TZNAME:CEST
DTSTART:20250330T010000
END:DAYLIGHT
BEGIN:STANDARD
TZOFFSETFROM:+0200
TZOFFSETTO:+0100
TZNAME:CET
DTSTART:20251026T010000
END:STANDARD
BEGIN:DAYLIGHT
TZOFFSETFROM:+0100
TZOFFSETTO:+0200
TZNAME:CEST
DTSTART:20260329T010000
END:DAYLIGHT
BEGIN:STANDARD
TZOFFSETFROM:+0200
TZOFFSETTO:+0100
TZNAME:CET
DTSTART:20261025T010000
END:STANDARD
BEGIN:DAYLIGHT
TZOFFSETFROM:+0100
TZOFFSETTO:+0200
TZNAME:CEST
DTSTART:20270328T010000
END:DAYLIGHT
BEGIN:STANDARD
TZOFFSETFROM:+0200
TZOFFSETTO:+0100
TZNAME:CET
DTSTART:20271031T010000
END:STANDARD
END:VTIMEZONE
BEGIN:VEVENT
DTSTART;TZID=Europe/Paris:20260418T180000
DTEND;TZID=Europe/Paris:20260419T000000
DTSTAMP:20260421T170421
CREATED:20260209T204749Z
LAST-MODIFIED:20260209T231205Z
UID:836-1776535200-1776556800@alterzinc.fr
SUMMARY:Bal folk
DESCRIPTION:
URL:https://alterzinc.fr/index.php/event/bal-folk-2/
LOCATION:Maison de quartier\, 23 rue de Strasbourg\, Belfort\, 23 rue de Strasbourg\, Belfort\, 90000\, France
CATEGORIES:bar,concert
END:VEVENT
BEGIN:VEVENT
DTSTART;TZID=Europe/Paris:20260321T190000
DTEND;TZID=Europe/Paris:20260321T230000
DTSTAMP:20260421T170421
CREATED:20260314T221453Z
LAST-MODIFIED:20260315T061134Z
UID:859-1774119600-1774134000@alterzinc.fr
SUMMARY:Soirée crochet
DESCRIPTION:et amigurumi
URL:https://alterzinc.fr/index.php/event/soiree-crochet/
LOCATION:Pochon magique\, 18 rue de Brasse\, BELFORT\, 90000\, France
CATEGORIES:bar
END:VEVENT
BEGIN:VEVENT
DTSTART;TZID=Europe/Paris:20260228T190000
DTEND;TZID=Europe/Paris:20260228T230000
DTSTAMP:20260421T170421
CREATED:20260209T204548Z
LAST-MODIFIED:20260209T232106Z
UID:834-1772305200-1772319600@alterzinc.fr
SUMMARY:Soirée jeux
DESCRIPTION:
URL:https://alterzinc.fr/index.php/event/soiree-jeux-2/
LOCATION:Pochon magique\, 18 rue de Brasse\, BELFORT\, 90000\, France
ATTACH;FMTTYPE=image/png:https://alterzinc.fr/wp-content/uploads/2026/02/JEUX.png
END:VEVENT
BEGIN:VEVENT
DTSTART;TZID=Europe/Paris:20260207T200000
DTEND;TZID=Europe/Paris:20260207T223000
DTSTAMP:20260421T170421
CREATED:20251124T204902Z
LAST-MODIFIED:20260128T190616Z
UID:785-1770494400-1770503400@alterzinc.fr
SUMMARY:Soirée Blind test - karaoke
DESCRIPTION:
URL:https://alterzinc.fr/index.php/event/soiree-blind-test-karaoke/
LOCATION:Pochon magique\, 18 rue de Brasse\, BELFORT\, 90000\, France
CATEGORIES:bar
END:VEVENT
BEGIN:VEVENT
DTSTART;TZID=Europe/Paris:20260124T190000
DTEND;TZID=Europe/Paris:20260124T230000
DTSTAMP:20260421T170421
CREATED:20251124T203015Z
LAST-MODIFIED:20260107T085847Z
UID:780-1769281200-1769295600@alterzinc.fr
SUMMARY:Assemblée générale et Zik
DESCRIPTION:
URL:https://alterzinc.fr/index.php/event/assemblee-generale-et-zik/
LOCATION:Bar atteint\, 25 rue de la Savoureuse\, Belfort\, 90000\, France
CATEGORIES:concert,conférence débat
END:VEVENT
BEGIN:VEVENT
DTSTART;TZID=Europe/Paris:20260110T180000
DTEND;TZID=Europe/Paris:20260110T223000
DTSTAMP:20260421T170421
CREATED:20251124T203640Z
LAST-MODIFIED:20251124T203640Z
UID:783-1768068000-1768084200@alterzinc.fr
SUMMARY:Soirée Yoga
DESCRIPTION:
URL:https://alterzinc.fr/index.php/event/soiree-yoga/
LOCATION:Pochon magique\, 18 rue de Brasse\, BELFORT\, 90000\, France
END:VEVENT
BEGIN:VEVENT
DTSTART;TZID=Europe/Paris:20251213T190000
DTEND;TZID=Europe/Paris:20251213T230000
DTSTAMP:20260421T170421
CREATED:20251019T160038Z
LAST-MODIFIED:20251205T114441Z
UID:756-1765652400-1765666800@alterzinc.fr
SUMMARY:Soirée feu de camp
DESCRIPTION:
URL:https://alterzinc.fr/index.php/event/soiree-feu-de-camp/
LOCATION:Pochon magique\, 18 rue de Brasse\, BELFORT\, 90000\, France
CATEGORIES:bar
END:VEVENT
BEGIN:VEVENT
DTSTART;TZID=Europe/Paris:20251129T190000
DTEND;TZID=Europe/Paris:20251129T223000
DTSTAMP:20260421T170421
CREATED:20251019T180221Z
LAST-MODIFIED:20251124T203346Z
UID:758-1764442800-1764455400@alterzinc.fr
SUMMARY:Jam Session
DESCRIPTION:
URL:https://alterzinc.fr/index.php/event/jam-session-2/
LOCATION:Bar atteint\, 25 rue de la Savoureuse\, Belfort\, 90000\, France
END:VEVENT
BEGIN:VEVENT
DTSTART;TZID=Europe/Paris:20251108T190000
DTEND;TZID=Europe/Paris:20251108T230000
DTSTAMP:20260421T170421
CREATED:20251009T202012Z
LAST-MODIFIED:20251019T212916Z
UID:732-1762628400-1762642800@alterzinc.fr
SUMMARY:Et si on parlait sobriété ?
DESCRIPTION:Et si on parlait sobriété autrement ? \nDans le cadre du Festival de la Transition écologique et numérique\, Alterzinc a le plaisir d’accueillir France Nature Environnement Bourgogne-Franche-Comté pour une soirée conviviale sur la sobriété numérique\, énergétique et en mobilité.\nAu programme : ateliers ludiques\, jeux participatifs\, échanges libres et boîte à émotions\, pour réfléchir ensemble à nos modes de vie sans se prendre la tête.\nUn temps chaleureux et participatif\, accessible à toutes et tous\, pour s’inspirer sans culpabiliser. \nRendez-vous le samedi 8 novembre à 19h à Alterzinc \nVenez curieux·ses\, repartez inspiré·es !
URL:https://alterzinc.fr/index.php/event/732/
LOCATION:Pochon magique\, 18 rue de Brasse\, BELFORT\, 90000\, France
CATEGORIES:conférence débat
ATTACH;FMTTYPE=application/pdf:https://alterzinc.fr/wp-content/uploads/2025/10/Affiche-Parlons-Sobriete-Belfort-2025.pdf
END:VEVENT
BEGIN:VEVENT
DTSTART;TZID=Europe/Paris:20251101T190000
DTEND;TZID=Europe/Paris:20251101T220000
DTSTAMP:20260421T170421
CREATED:20251019T174037Z
LAST-MODIFIED:20251019T213157Z
UID:748-1762023600-1762034400@alterzinc.fr
SUMMARY:S'il vous plait - Vincent Jeudy
DESCRIPTION:“S’il vous plaît” de Vincent Jeudy débarque à Alterzinc !\nEt si l’on sortait un peu du cadre ?\nEntre poésie\, chanson et émotions brutes\, Vincent Jeudy nous embarque dans un seul en scène tout en sensibilité. (Rien à voir avec Denum ni avec un one-man-show comique.) \nFerrat\, Baudelaire\, Hugo\, Brel\, Michaux… se croisent et se répondent dans un voyage poétique de 20 minutes\, suivi d’un échange avec le public. (si le cœur vous en dit).\nSamedi 1er novembre à 19h à Alterzinc\, 18 rue de Brasse\, Belfort
URL:https://alterzinc.fr/index.php/event/sil-vous-plait-vincent-jeudy/
LOCATION:Pochon magique\, 18 rue de Brasse\, BELFORT\, 90000\, France
CATEGORIES:conférence débat,spectacle
END:VEVENT
BEGIN:VEVENT
DTSTART;TZID=Europe/Paris:20251018T190000
DTEND;TZID=Europe/Paris:20251018T213000
DTSTAMP:20260421T170421
CREATED:20250921T171802Z
LAST-MODIFIED:20250928T144557Z
UID:721-1760814000-1760823000@alterzinc.fr
SUMMARY:Théâtre avec Sergot
DESCRIPTION:
URL:https://alterzinc.fr/index.php/event/theatre-comique/
LOCATION:Pochon magique\, 18 rue de Brasse\, BELFORT\, 90000\, France
CATEGORIES:bar,spectacle
END:VEVENT
BEGIN:VEVENT
DTSTART;TZID=Europe/Paris:20250920T190000
DTEND;TZID=Europe/Paris:20250920T233000
DTSTAMP:20260421T170421
CREATED:20250907T154607Z
LAST-MODIFIED:20250907T154607Z
UID:713-1758394800-1758411000@alterzinc.fr
SUMMARY:Rentrée
DESCRIPTION:C’est la rentrée
URL:https://alterzinc.fr/index.php/event/rentree/
LOCATION:Pochon magique\, 18 rue de Brasse\, BELFORT\, 90000\, France
CATEGORIES:bar
END:VEVENT
BEGIN:VEVENT
DTSTART;TZID=Europe/Paris:20250621T170000
DTEND;TZID=Europe/Paris:20250621T233000
DTSTAMP:20260421T170421
CREATED:20250601T212713Z
LAST-MODIFIED:20250601T213511Z
UID:693-1750525200-1750548600@alterzinc.fr
SUMMARY:Fête de la musique 2025
DESCRIPTION:
URL:https://alterzinc.fr/index.php/event/fete-de-la-musique-2/
LOCATION:Pochon magique\, 18 rue de Brasse\, BELFORT\, 90000\, France
CATEGORIES:concert
END:VEVENT
BEGIN:VEVENT
DTSTART;TZID=Europe/Paris:20250524T190000
DTEND;TZID=Europe/Paris:20250524T233000
DTSTAMP:20260421T170421
CREATED:20250502T161415Z
LAST-MODIFIED:20250502T161415Z
UID:684-1748113200-1748129400@alterzinc.fr
SUMMARY:Jam session
DESCRIPTION:
URL:https://alterzinc.fr/index.php/event/jam-session/
CATEGORIES:concert
END:VEVENT
BEGIN:VEVENT
DTSTART;TZID=Europe/Paris:20250510T180000
DTEND;TZID=Europe/Paris:20250510T233000
DTSTAMP:20260421T170421
CREATED:20250413T200958Z
LAST-MODIFIED:20250413T200958Z
UID:674-1746900000-1746919800@alterzinc.fr
SUMMARY:Bal folk
DESCRIPTION:
URL:https://alterzinc.fr/index.php/event/bal-folk/
LOCATION:Maison de quartier\, 23 rue de Strasbourg\, Belfort\, 23 rue de Strasbourg\, Belfort\, 90000\, France
CATEGORIES:bar,concert
ATTACH;FMTTYPE=image/png:https://alterzinc.fr/wp-content/uploads/2025/04/bal-folk.png
END:VEVENT
BEGIN:VEVENT
DTSTART;TZID=Europe/Paris:20250426T180000
DTEND;TZID=Europe/Paris:20250426T230000
DTSTAMP:20260421T170421
CREATED:20250330T175136Z
LAST-MODIFIED:20250330T175136Z
UID:670-1745690400-1745708400@alterzinc.fr
SUMMARY:Soirée jeux de société
DESCRIPTION:
URL:https://alterzinc.fr/index.php/event/soiree-jeux-de-societe-3/
LOCATION:Pochon magique\, 18 rue de Brasse\, BELFORT\, 90000\, France
CATEGORIES:bar
ATTACH;FMTTYPE=image/png:https://alterzinc.fr/wp-content/uploads/2025/03/jeux-250426.png
END:VEVENT
BEGIN:VEVENT
DTSTART;TZID=Europe/Paris:20250412T080000
DTEND;TZID=Europe/Paris:20250412T170000
DTSTAMP:20260421T170421
CREATED:20250318T134217Z
LAST-MODIFIED:20250318T134217Z
UID:661-1744444800-1744477200@alterzinc.fr
SUMMARY:Troc plante
DESCRIPTION:Le 12 avril\, Alterzinc sera au troc plante de la maison des Forges. Venez déguster pâtisserie et boissons fraîches et chaudes.
URL:https://alterzinc.fr/index.php/event/troc-plante/
CATEGORIES:bar
END:VEVENT
BEGIN:VEVENT
DTSTART;TZID=Europe/Paris:20250405T180000
DTEND;TZID=Europe/Paris:20250405T203000
DTSTAMP:20260421T170421
CREATED:20250318T103920Z
LAST-MODIFIED:20250318T103920Z
UID:652-1743876000-1743885000@alterzinc.fr
SUMMARY:Formation "repérer les violences sexuelles et sexistes"
DESCRIPTION:
URL:https://alterzinc.fr/index.php/event/formation-reperer-les-violences-sexuelles-et-sexistes/
LOCATION:Pochon magique\, 18 rue de Brasse\, BELFORT\, 90000\, France
CATEGORIES:conférence débat
END:VEVENT
BEGIN:VEVENT
DTSTART;TZID=Europe/Paris:20250222T180000
DTEND;TZID=Europe/Paris:20250222T220000
DTSTAMP:20260421T170421
CREATED:20250119T191217Z
LAST-MODIFIED:20250119T191224Z
UID:632-1740247200-1740261600@alterzinc.fr
SUMMARY:Yoga et repas
DESCRIPTION:
URL:https://alterzinc.fr/index.php/event/yoga-et-repas-2/
LOCATION:Pochon magique\, 18 rue de Brasse\, BELFORT\, 90000\, France
CATEGORIES:bar
END:VEVENT
BEGIN:VEVENT
DTSTART;TZID=Europe/Paris:20250215T190000
DTEND;TZID=Europe/Paris:20250215T223000
DTSTAMP:20260421T170421
CREATED:20250119T191303Z
LAST-MODIFIED:20250119T191303Z
UID:634-1739646000-1739658600@alterzinc.fr
SUMMARY:Soirée blind test
DESCRIPTION:
URL:https://alterzinc.fr/index.php/event/soiree-blind-test/
LOCATION:Pochon magique\, 18 rue de Brasse\, BELFORT\, 90000\, France
CATEGORIES:bar
END:VEVENT
BEGIN:VEVENT
DTSTART;TZID=Europe/Paris:20250201T190000
DTEND;TZID=Europe/Paris:20250201T220000
DTSTAMP:20260421T170421
CREATED:20250119T191339Z
LAST-MODIFIED:20250119T191339Z
UID:636-1738436400-1738447200@alterzinc.fr
SUMMARY:Soirée soupe lecture
DESCRIPTION:
URL:https://alterzinc.fr/index.php/event/soiree-soupe-lecture/
LOCATION:Pochon magique\, 18 rue de Brasse\, BELFORT\, 90000\, France
CATEGORIES:bar
END:VEVENT
BEGIN:VEVENT
DTSTART;TZID=Europe/Paris:20250118T180000
DTEND;TZID=Europe/Paris:20250118T220000
DTSTAMP:20260421T170421
CREATED:20250108T210637Z
LAST-MODIFIED:20251019T213938Z
UID:620-1737223200-1737237600@alterzinc.fr
SUMMARY:Yoga et repas
DESCRIPTION:Samedi 18 janvier à 18h15 une séance de yoga (10 €) vous est proposée par Axelle\, suivie d’un repas (15 € tout compris) à partir de 20h. Les inscriptions pour l’une et/ou l’autre de ces propositions se font auprès de Virginie (06 02 52 99 48) ou Axelle (06 87 67 93 99).
URL:https://alterzinc.fr/index.php/event/yoga-et-repas/
LOCATION:Pochon magique\, 18 rue de Brasse\, BELFORT\, 90000\, France
CATEGORIES:bar
ATTACH;FMTTYPE=image/png:https://alterzinc.fr/wp-content/uploads/2025/01/yoga.png
END:VEVENT
BEGIN:VEVENT
DTSTART;TZID=Europe/Paris:20250116T190000
DTEND;TZID=Europe/Paris:20250116T220000
DTSTAMP:20260421T170421
CREATED:20250108T205732Z
LAST-MODIFIED:20250108T205732Z
UID:613-1737054000-1737064800@alterzinc.fr
SUMMARY:Dédicaces : un médecin de ville
DESCRIPTION:Jeudi 16 janvier à 19h
URL:https://alterzinc.fr/index.php/event/dedicaces-un-medecin-de-ville/
LOCATION:Pochon magique\, 18 rue de Brasse\, BELFORT\, 90000\, France
CATEGORIES:bar
ATTACH;FMTTYPE=image/png:https://alterzinc.fr/wp-content/uploads/2025/01/dedicaces.png
END:VEVENT
BEGIN:VEVENT
DTSTART;TZID=Europe/Paris:20250111T190000
DTEND;TZID=Europe/Paris:20250111T220000
DTSTAMP:20260421T170421
CREATED:20241230T120832Z
LAST-MODIFIED:20241230T120832Z
UID:602-1736622000-1736632800@alterzinc.fr
SUMMARY:1ère soirée : l'an 01
DESCRIPTION:Projection du film l’an01
URL:https://alterzinc.fr/index.php/event/1ere-soiree-lan-01/
LOCATION:Pochon magique\, 18 rue de Brasse\, BELFORT\, 90000\, France
CATEGORIES:bar,conférence débat
END:VEVENT
BEGIN:VEVENT
DTSTART;TZID=Europe/Paris:20241207T180000
DTEND;TZID=Europe/Paris:20241207T230000
DTSTAMP:20260421T170421
CREATED:20241008T091651Z
LAST-MODIFIED:20241129T212829Z
UID:547-1733594400-1733612400@alterzinc.fr
SUMMARY:Soirée au coin du feu
DESCRIPTION:
URL:https://alterzinc.fr/index.php/event/soiree-au-coin-du-feu/
CATEGORIES:bar
END:VEVENT
BEGIN:VEVENT
DTSTART;TZID=Europe/Paris:20241122T181500
DTEND;TZID=Europe/Paris:20241122T220000
DTSTAMP:20260421T170421
CREATED:20241008T091104Z
LAST-MODIFIED:20241104T080537Z
UID:539-1732299300-1732312800@alterzinc.fr
SUMMARY:Séance Yoga
DESCRIPTION:avec Axelle\, une séance yoga aura lieu au Pochon.\n8€ la séance de yoga\n12€  le repas.
URL:https://alterzinc.fr/index.php/event/seance-decouverte-yoga/
LOCATION:Pochon magique\, 18 rue de Brasse\, BELFORT\, 90000\, France
CATEGORIES:bar
END:VEVENT
BEGIN:VEVENT
DTSTART;TZID=Europe/Paris:20241115T190000
DTEND;TZID=Europe/Paris:20241115T213000
DTSTAMP:20260421T170421
CREATED:20241008T091615Z
LAST-MODIFIED:20241104T080449Z
UID:545-1731697200-1731706200@alterzinc.fr
SUMMARY:Soirée ciné/tricot
DESCRIPTION:
URL:https://alterzinc.fr/index.php/event/soiree/
LOCATION:Michotte et Confiote\, rue de Turenne\, Valdoie\, 90000\, France
CATEGORIES:bar
END:VEVENT
BEGIN:VEVENT
DTSTART;TZID=Europe/Paris:20241106T190000
DTEND;TZID=Europe/Paris:20241106T210000
DTSTAMP:20260421T170421
CREATED:20241008T091348Z
LAST-MODIFIED:20241104T080515Z
UID:541-1730919600-1730926800@alterzinc.fr
SUMMARY:Projection film "les doléances"
DESCRIPTION:Projection du film « les doléances » avec débat en compagnie de la réalisatrice (en visio)
URL:https://alterzinc.fr/index.php/event/projection-film-les-doleances/
LOCATION:Pochon magique\, 18 rue de Brasse\, BELFORT\, 90000\, France
CATEGORIES:conférence débat
END:VEVENT
BEGIN:VEVENT
DTSTART;TZID=Europe/Paris:20241018T180000
DTEND;TZID=Europe/Paris:20241018T223000
DTSTAMP:20260421T170421
CREATED:20241008T083050Z
LAST-MODIFIED:20241008T083050Z
UID:529-1729274400-1729290600@alterzinc.fr
SUMMARY:Soirée jeux de société
DESCRIPTION:Vendredi 18 oct à partir de 18h : soirée jeux de société. Amenez vos jeux préférés !
URL:https://alterzinc.fr/index.php/event/soiree-jeux-de-societe-2/
LOCATION:Pochon magique\, 18 rue de Brasse\, BELFORT\, 90000\, France
CATEGORIES:bar
END:VEVENT
BEGIN:VEVENT
DTSTART;TZID=Europe/Paris:20241006T110000
DTEND;TZID=Europe/Paris:20241006T150000
DTSTAMP:20260421T170421
CREATED:20240922T081751Z
LAST-MODIFIED:20240923T095607Z
UID:403-1728212400-1728226800@alterzinc.fr
SUMMARY:Assemblée générale d'AlterZinc
DESCRIPTION:L’assemblée générale de l’association AlterZinc aura lieu dimanche 6 octobre à 11h au 18 rue de Brasse. \nA l’ordre du jour : \n\nPoint bilan d’une année\nPoint financier\nCotisations adhérents\nPerspectives et programmation\n\nUn repas végé sera servi dans le jardin s’il fait beau\, à l’intérieur s’il pleut.\nInscription obligatoire pour le repas gratuit ! \n  \n  \n 
URL:https://alterzinc.fr/index.php/event/assemblee-generale-dalterzinc/
LOCATION:Pochon magique\, 18 rue de Brasse\, BELFORT\, 90000\, France
CATEGORIES:conférence débat
END:VEVENT
END:VCALENDAR