BEGIN:VCALENDAR
VERSION:2.0
PRODID:-//AlterZinc - ECPv6.15.20//NONSGML v1.0//EN
CALSCALE:GREGORIAN
METHOD:PUBLISH
X-WR-CALNAME:AlterZinc
X-ORIGINAL-URL:https://alterzinc.fr
X-WR-CALDESC:Évènements pour AlterZinc
REFRESH-INTERVAL;VALUE=DURATION:PT1H
X-Robots-Tag:noindex
X-PUBLISHED-TTL:PT1H
BEGIN:VTIMEZONE
TZID:Europe/Paris
BEGIN:DAYLIGHT
TZOFFSETFROM:+0100
TZOFFSETTO:+0200
TZNAME:CEST
DTSTART:20240331T010000
END:DAYLIGHT
BEGIN:STANDARD
TZOFFSETFROM:+0200
TZOFFSETTO:+0100
TZNAME:CET
DTSTART:20241027T010000
END:STANDARD
BEGIN:DAYLIGHT
TZOFFSETFROM:+0100
TZOFFSETTO:+0200
TZNAME:CEST
DTSTART:20250330T010000
END:DAYLIGHT
BEGIN:STANDARD
TZOFFSETFROM:+0200
TZOFFSETTO:+0100
TZNAME:CET
DTSTART:20251026T010000
END:STANDARD
BEGIN:DAYLIGHT
TZOFFSETFROM:+0100
TZOFFSETTO:+0200
TZNAME:CEST
DTSTART:20260329T010000
END:DAYLIGHT
BEGIN:STANDARD
TZOFFSETFROM:+0200
TZOFFSETTO:+0100
TZNAME:CET
DTSTART:20261025T010000
END:STANDARD
END:VTIMEZONE
BEGIN:VEVENT
DTSTART;TZID=Europe/Paris:20250111T190000
DTEND;TZID=Europe/Paris:20250111T220000
DTSTAMP:20260422T132036
CREATED:20241230T120832Z
LAST-MODIFIED:20241230T120832Z
UID:602-1736622000-1736632800@alterzinc.fr
SUMMARY:1ère soirée : l'an 01
DESCRIPTION:Projection du film l’an01
URL:https://alterzinc.fr/index.php/event/1ere-soiree-lan-01/
LOCATION:Pochon magique\, 18 rue de Brasse\, BELFORT\, 90000\, France
CATEGORIES:bar,conférence débat
END:VEVENT
BEGIN:VEVENT
DTSTART;TZID=Europe/Paris:20250116T190000
DTEND;TZID=Europe/Paris:20250116T220000
DTSTAMP:20260422T132036
CREATED:20250108T205732Z
LAST-MODIFIED:20250108T205732Z
UID:613-1737054000-1737064800@alterzinc.fr
SUMMARY:Dédicaces : un médecin de ville
DESCRIPTION:Jeudi 16 janvier à 19h
URL:https://alterzinc.fr/index.php/event/dedicaces-un-medecin-de-ville/
LOCATION:Pochon magique\, 18 rue de Brasse\, BELFORT\, 90000\, France
CATEGORIES:bar
ATTACH;FMTTYPE=image/png:https://alterzinc.fr/wp-content/uploads/2025/01/dedicaces.png
END:VEVENT
BEGIN:VEVENT
DTSTART;TZID=Europe/Paris:20250118T180000
DTEND;TZID=Europe/Paris:20250118T220000
DTSTAMP:20260422T132036
CREATED:20250108T210637Z
LAST-MODIFIED:20251019T213938Z
UID:620-1737223200-1737237600@alterzinc.fr
SUMMARY:Yoga et repas
DESCRIPTION:Samedi 18 janvier à 18h15 une séance de yoga (10 €) vous est proposée par Axelle\, suivie d’un repas (15 € tout compris) à partir de 20h. Les inscriptions pour l’une et/ou l’autre de ces propositions se font auprès de Virginie (06 02 52 99 48) ou Axelle (06 87 67 93 99).
URL:https://alterzinc.fr/index.php/event/yoga-et-repas/
LOCATION:Pochon magique\, 18 rue de Brasse\, BELFORT\, 90000\, France
CATEGORIES:bar
ATTACH;FMTTYPE=image/png:https://alterzinc.fr/wp-content/uploads/2025/01/yoga.png
END:VEVENT
END:VCALENDAR