BEGIN:VCALENDAR
VERSION:2.0
PRODID:-//AlterZinc - ECPv6.15.20//NONSGML v1.0//EN
CALSCALE:GREGORIAN
METHOD:PUBLISH
X-WR-CALNAME:AlterZinc
X-ORIGINAL-URL:https://alterzinc.fr
X-WR-CALDESC:Évènements pour AlterZinc
REFRESH-INTERVAL;VALUE=DURATION:PT1H
X-Robots-Tag:noindex
X-PUBLISHED-TTL:PT1H
BEGIN:VTIMEZONE
TZID:Europe/Paris
BEGIN:DAYLIGHT
TZOFFSETFROM:+0100
TZOFFSETTO:+0200
TZNAME:CEST
DTSTART:20250330T010000
END:DAYLIGHT
BEGIN:STANDARD
TZOFFSETFROM:+0200
TZOFFSETTO:+0100
TZNAME:CET
DTSTART:20251026T010000
END:STANDARD
BEGIN:DAYLIGHT
TZOFFSETFROM:+0100
TZOFFSETTO:+0200
TZNAME:CEST
DTSTART:20260329T010000
END:DAYLIGHT
BEGIN:STANDARD
TZOFFSETFROM:+0200
TZOFFSETTO:+0100
TZNAME:CET
DTSTART:20261025T010000
END:STANDARD
BEGIN:DAYLIGHT
TZOFFSETFROM:+0100
TZOFFSETTO:+0200
TZNAME:CEST
DTSTART:20270328T010000
END:DAYLIGHT
BEGIN:STANDARD
TZOFFSETFROM:+0200
TZOFFSETTO:+0100
TZNAME:CET
DTSTART:20271031T010000
END:STANDARD
END:VTIMEZONE
BEGIN:VEVENT
DTSTART;TZID=Europe/Paris:20260207T200000
DTEND;TZID=Europe/Paris:20260207T223000
DTSTAMP:20260421T195257
CREATED:20251124T204902Z
LAST-MODIFIED:20260128T190616Z
UID:785-1770494400-1770503400@alterzinc.fr
SUMMARY:Soirée Blind test - karaoke
DESCRIPTION:
URL:https://alterzinc.fr/index.php/event/soiree-blind-test-karaoke/
LOCATION:Pochon magique\, 18 rue de Brasse\, BELFORT\, 90000\, France
CATEGORIES:bar
END:VEVENT
BEGIN:VEVENT
DTSTART;TZID=Europe/Paris:20260228T190000
DTEND;TZID=Europe/Paris:20260228T230000
DTSTAMP:20260421T195257
CREATED:20260209T204548Z
LAST-MODIFIED:20260209T232106Z
UID:834-1772305200-1772319600@alterzinc.fr
SUMMARY:Soirée jeux
DESCRIPTION:
URL:https://alterzinc.fr/index.php/event/soiree-jeux-2/
LOCATION:Pochon magique\, 18 rue de Brasse\, BELFORT\, 90000\, France
ATTACH;FMTTYPE=image/png:https://alterzinc.fr/wp-content/uploads/2026/02/JEUX.png
END:VEVENT
END:VCALENDAR